BEGIN:VCALENDAR
VERSION:2.0
PRODID:-//Sigma Iota Chapter - ECPv6.15.20//NONSGML v1.0//EN
CALSCALE:GREGORIAN
METHOD:PUBLISH
X-WR-CALNAME:Sigma Iota Chapter
X-ORIGINAL-URL:https://sigmaiota.com
X-WR-CALDESC:Events for Sigma Iota Chapter
REFRESH-INTERVAL;VALUE=DURATION:PT1H
X-Robots-Tag:noindex
X-PUBLISHED-TTL:PT1H
BEGIN:VTIMEZONE
TZID:America/Los_Angeles
BEGIN:DAYLIGHT
TZOFFSETFROM:-0800
TZOFFSETTO:-0700
TZNAME:PDT
DTSTART:20210314T100000
END:DAYLIGHT
BEGIN:STANDARD
TZOFFSETFROM:-0700
TZOFFSETTO:-0800
TZNAME:PST
DTSTART:20211107T090000
END:STANDARD
BEGIN:DAYLIGHT
TZOFFSETFROM:-0800
TZOFFSETTO:-0700
TZNAME:PDT
DTSTART:20220313T100000
END:DAYLIGHT
BEGIN:STANDARD
TZOFFSETFROM:-0700
TZOFFSETTO:-0800
TZNAME:PST
DTSTART:20221106T090000
END:STANDARD
BEGIN:DAYLIGHT
TZOFFSETFROM:-0800
TZOFFSETTO:-0700
TZNAME:PDT
DTSTART:20230312T100000
END:DAYLIGHT
BEGIN:STANDARD
TZOFFSETFROM:-0700
TZOFFSETTO:-0800
TZNAME:PST
DTSTART:20231105T090000
END:STANDARD
END:VTIMEZONE
BEGIN:VEVENT
DTSTART;TZID=America/Los_Angeles:20221028T180000
DTEND;TZID=America/Los_Angeles:20221028T190000
DTSTAMP:20260421T045401
CREATED:20221016T212430Z
LAST-MODIFIED:20221017T073131Z
UID:1175-1666980000-1666983600@sigmaiota.com
SUMMARY:The Candidates Forum - Mayor of Oakland
DESCRIPTION:Voter Registration\, Education\, and Engagement is a key initiative of Omega Psi Phi Fraternity\, Incorporated\, and which the Kingpin Ques of Sigma Iota Chapter view as vital to uplift our communities.  Join us for the “The Candidates Forum” October 28th\, 2022 at 6:00 PM virtually via ZOOM.
URL:https://sigmaiota.com/event/the-candidates-forum-next-mayor-of-oakland/
LOCATION:Virtual / Online\, CA\, United States
CATEGORIES:Voter Engagement
ATTACH;FMTTYPE=image/png:https://sigmaiota.com/wp-content/uploads/2022/10/TheCandidatesForum2022-MayorRace-e1665991770801.png
END:VEVENT
END:VCALENDAR